BEGIN:VCALENDAR
VERSION:2.0
PRODID:-//Tukios.com/
BEGIN:VEVENT
UID:50541c69-b9f3-4bb4-9fab-5ffccfe2dc4e@www.gentryfuneralservice.com
DTSTAMP:20260421T182049Z
DTSTART:20260425T160000Z
DTEND:20260425T170000Z
SUMMARY:Graveside Service
DESCRIPTION:
URL:https://www.gentryfuneralservice.com/obituaries/catherine-mullins
LOCATION:Forest Lawn Cemetery 169 Forest Lawn Cemetery Rd.  Pecks Mill WV 
	25547
GEO:37.9319778;-81.9827979
END:VEVENT
END:VCALENDAR